BEGIN:VCALENDAR
BEGIN:VEVENT
SUMMARY:MKULTRA (EP Release)\, Trip Villain\, Contract\, Pillowbiter [nycn
 oise]
DTSTART:20260320T233000Z
DTEND:20260321T003000Z
UID:554f83cf-0b56-41aa-b758-f9c80c9559f4
CREATED:20260425T131035Z
DESCRIPTION:7pm doors
LOCATION:tv eye (1647 Weirfield St\, Ridgewood\, NY 11385)
END:VEVENT
END:VCALENDAR
