BEGIN:VCALENDAR
BEGIN:VEVENT
SUMMARY:ABC NO RIO presents COMA (Citizens Ontological Musical Agenda) [ny
 cnoise]
DTSTART:20260308T223000Z
DTEND:20260308T233000Z
UID:47edeba0-d4a9-49e1-a63f-a81244db19cc
CREATED:20260425T130728Z
DESCRIPTION:
LOCATION:p.i.t. (property is theft) (411 s. 5th st.\, brooklyn)
END:VEVENT
END:VCALENDAR
