BEGIN:VCALENDAR
BEGIN:VEVENT
SUMMARY:ABC NO RIO Benefit: Lollirot\, Tr@sh Dykes\, Psyop\, Non Residents
  [nycnoise]
DTSTART:20260314T220000Z
DTEND:20260314T230000Z
UID:c8d6b617-eec8-4f2e-80bd-106918b9a212
CREATED:20260425T130835Z
DESCRIPTION:
LOCATION:p.i.t. (property is theft) (411 s. 5th st.\, brooklyn)
END:VEVENT
END:VCALENDAR
