BEGIN:VCALENDAR
BEGIN:VEVENT
SUMMARY:James Ilgenfritz / Joe Morris / Stephen Haynes\, Golden Feelings\,
  The Caribbean [nycnoise]
DTSTART:20260320T220000Z
DTEND:20260320T230000Z
UID:0a1a3f96-f81b-4f7b-85f7-b6d6fe27ccd5
CREATED:20260425T130917Z
DESCRIPTION:
LOCATION:p.i.t. (property is theft) (411 s. 5th st.\, brooklyn)
END:VEVENT
END:VCALENDAR
