BEGIN:VCALENDAR
BEGIN:VEVENT
SUMMARY:50 Million\, O.R.P.H.A.N.S.\, The Key\, Penny [nycnoise]
DTSTART:20260321T220000Z
DTEND:20260321T230000Z
UID:8672f518-ccd6-4db3-b9d8-010ce5e4871e
CREATED:20260425T130852Z
DESCRIPTION:
LOCATION:p.i.t. (property is theft) (411 s. 5th st.\, brooklyn)
END:VEVENT
END:VCALENDAR
