BEGIN:VCALENDAR
BEGIN:VEVENT
SUMMARY:M.Val (w/ Brandon Lopez\, Matt Moran)\, Liam Grant\, Sam Boston\, 
 Emma Mistele [nycnoise]
DTSTART:20260322T210000Z
DTEND:20260322T220000Z
UID:aec3eca4-65e5-4337-a97f-2e9bc8bb52d5
CREATED:20260425T130616Z
DESCRIPTION:
LOCATION:p.i.t. (property is theft) (411 s. 5th st.\, brooklyn)
END:VEVENT
END:VCALENDAR
