BEGIN:VCALENDAR
BEGIN:VEVENT
SUMMARY:M.Val\, Michael Foster\, Guillermo Gregorio [nycnoise]
DTSTART:20260326T220000Z
DTEND:20260326T230000Z
UID:391a3584-2d37-48e5-b4ce-9fc3006a404f
CREATED:20260425T130735Z
DESCRIPTION:
LOCATION:p.i.t. (property is theft) (411 s. 5th st.\, brooklyn)
END:VEVENT
END:VCALENDAR
