BEGIN:VCALENDAR
BEGIN:VEVENT
SUMMARY:Musics (Ilusha Tsinadze\, Gocha Tsinadze\, Chris Tordini\, Jason N
 azary) [nycnoise]
DTSTART:20260303T010000Z
DTEND:20260303T020000Z
UID:71b8fc40-a125-45e6-923b-f44b8bb559dd
CREATED:20260425T130836Z
DESCRIPTION:
LOCATION:barbès (376 9th st.\, brooklyn)
END:VEVENT
END:VCALENDAR
