BEGIN:VCALENDAR
BEGIN:VEVENT
SUMMARY:Found Sound Nation presents: Shayna Dunkelman\, Aakash Mittal [nyc
 noise]
DTSTART:20260328T200000Z
DTEND:20260328T210000Z
UID:b1457a12-3283-43bc-8739-a1fb38c7e5c8
CREATED:20260425T130836Z
DESCRIPTION:
LOCATION:barbès (376 9th st.\, brooklyn)
END:VEVENT
END:VCALENDAR
