BEGIN:VCALENDAR
BEGIN:VEVENT
SUMMARY:Uptown Out: Hilliard Greene / Will Glass / Matt Lambiase / Mary Ch
 erney / Stephanie Griffin [nycnoise]
DTSTART:20260312T230000Z
DTEND:20260313T000000Z
UID:47386565-9fdb-4573-9e98-c8fe458fb9ee
CREATED:20260425T131247Z
DESCRIPTION:
LOCATION:recirculation (876 Riverside Dr\, New York\, NY 10032)
END:VEVENT
END:VCALENDAR
