BEGIN:VCALENDAR
BEGIN:VEVENT
SUMMARY:Weinberg Residency: Brandon Seabrook\, Sam Weinberg & Tom Bruckner
  [nycnoise]
DTSTART:20260304T010000Z
DTEND:20260304T020000Z
UID:c007a948-7cfe-40af-83b0-b9236d02203e
CREATED:20260425T131246Z
DESCRIPTION:7:30pm doors
LOCATION:sisters (900 fulton st.\, brooklyn)
END:VEVENT
END:VCALENDAR
