BEGIN:VCALENDAR
BEGIN:VEVENT
SUMMARY:Gates Residency: Trevor Dunn & Brandon Lopez\, Sally Gates / Carol
 ine Davis / Greg Fox [nycnoise]
DTSTART:20260326T000000Z
DTEND:20260326T010000Z
UID:fdb0d6fc-58f2-4a1d-982d-c28637124ec4
CREATED:20260425T130837Z
DESCRIPTION:typo'd &amp\; for a bit this said "brando" whoops\; as we all 
 know\, marlon brando dug ditches for 1 summer\, whereas brandon lopez dug 
 graves for over a decade: Different Men
LOCATION:sisters (900 fulton st.\, brooklyn)
END:VEVENT
END:VCALENDAR
