BEGIN:VCALENDAR
BEGIN:VEVENT
SUMMARY:Georgian Polyphonics: Screening + Giorgi Koberidze [nycnoise]
DTSTART:20260321T190000Z
DTEND:20260321T200000Z
UID:b7589433-ee0b-4b6e-94fe-35472a7966c5
CREATED:20260425T131035Z
DESCRIPTION:screening: Soso Chkhaidze's Old Georgian Hymns (1970) &amp\; O
 tar Iosseliani's Ancient Georgian Songs&nbsp\;(1969)
LOCATION:e-flux (172 classon ave\, brooklyn)
END:VEVENT
END:VCALENDAR
