BEGIN:VCALENDAR
BEGIN:VEVENT
SUMMARY:Samita Sinha & Daniel Neumann: 'Co-emergence' Listening Session [n
 ycnoise]
DTSTART:20260303T230000Z
DTEND:20260304T000000Z
UID:5b567221-e402-4ec3-91a3-2294e95331a1
CREATED:20260425T130703Z
DESCRIPTION:not live\; sound installation + conversation\; free w/ rsvp
LOCATION:fridman gallery (169 bowery\, manhattan)
END:VEVENT
END:VCALENDAR
