BEGIN:VCALENDAR
BEGIN:VEVENT
SUMMARY:Poetry Project presents: mace dent johnson\, Noa Micaela Fields [n
 ycnoise]
DTSTART:20260303T010000Z
DTEND:20260303T020000Z
UID:c6a40509-d9ce-4609-9bb9-9cdcf0e38164
CREATED:20260425T130616Z
DESCRIPTION:poetry\, but "sound is primal" + LIVESTREAM
LOCATION:poetry project st. mark's (parish hall) (131 e. 10th st.\, manhat
 tan)
END:VEVENT
END:VCALENDAR
