BEGIN:VCALENDAR
BEGIN:VEVENT
SUMMARY:Soup & Sound presents: JD Parran's Dance Clarinets [nycnoise]
DTSTART:20260415T233000Z
DTEND:20260416T003000Z
UID:0d488581-6aa0-48e0-a802-fb3ada2f30df
CREATED:20260425T110945Z
DESCRIPTION:compositions by Geri Allen &amp\; Carla Bley
LOCATION:greenwich house music school (46 barrow st.\, manhattan)
END:VEVENT
END:VCALENDAR
