BEGIN:VCALENDAR
BEGIN:VEVENT
SUMMARY:Alone Not Lonely: Yoon Sun Choi\, Katie Seiler\, Mara Rosenbloom\,
  Christine Correa [nycnoise]
DTSTART:20260307T003000Z
DTEND:20260307T013000Z
UID:f5c12b19-09fd-4496-ab1a-50df7acc67a1
CREATED:20260425T130702Z
DESCRIPTION:
LOCATION:ibeam (168 7th st.\, brooklyn)
END:VEVENT
END:VCALENDAR
