BEGIN:VCALENDAR
BEGIN:VEVENT
SUMMARY:Soup & Sound presents Indigenous Soundscapes: The Forest & lone ea
 gle (CD Release\; l.e. w/ Gustavo Aguilar\, Leah Bowden\, Andrew Drury\, M
 ichael Wimberly) [nycnoise]
DTSTART:20260417T233000Z
DTEND:20260418T003000Z
UID:0887fe7c-7926-450c-bdca-bb9338afe22e
CREATED:20260425T110826Z
DESCRIPTION:lone eagle + the forest (percussion quartet) album&nbsp\;coyot
 e makes a world on bandcamp
LOCATION:greenwich house music school (46 barrow st.\, manhattan)
END:VEVENT
END:VCALENDAR
