BEGIN:VCALENDAR
BEGIN:VEVENT
SUMMARY:Soup & Sound presents Indigenous Soundscapes: Mixashawn (w/ Joe Mo
 rris\, Michael LaRocca) [nycnoise]
DTSTART:20260418T233000Z
DTEND:20260419T003000Z
UID:c25f4bde-0d15-4d04-acd7-39c6513b70cc
CREATED:20260425T110918Z
DESCRIPTION:
LOCATION:greenwich house music school (46 barrow st.\, manhattan)
END:VEVENT
END:VCALENDAR
