BEGIN:VCALENDAR
BEGIN:VEVENT
SUMMARY:Joel Harrison presents Alternative Guitar Summit: Joel Harrison\, 
 Gilad Hekselman\,  David Gilmore\, Anthony Pirog\, Wendy Eisenberg\, Tim W
 atson\, Emmanuel Michael\, Max Light\, Grant Gordy [nycnoise]
DTSTART:20260313T230000Z
DTEND:20260314T000000Z
UID:3237b187-8783-4eed-9376-f87e540b50e3
CREATED:20260425T130727Z
DESCRIPTION:
LOCATION:nublu 151 (151 ave c\, manhattan)
END:VEVENT
END:VCALENDAR
