BEGIN:VCALENDAR
BEGIN:VEVENT
SUMMARY:Mottel\, Eye High\, Tscher Holmes / Aquiles Navarro / Jim McHugh /
  Matt Mottel [nycnoise]
DTSTART:20260324T233000Z
DTEND:20260325T003000Z
UID:89cc6986-a63a-406a-a274-22867454b428
CREATED:20260425T130918Z
DESCRIPTION:confirming info asap
LOCATION:record shop (360 van brunt st.\, brooklyn)
END:VEVENT
END:VCALENDAR
