BEGIN:VCALENDAR
BEGIN:VEVENT
SUMMARY:Lukas Koenig\, Samantha Kochis\, Luke Stewart [nycnoise]
DTSTART:20260331T233000Z
DTEND:20260401T003000Z
UID:74a99223-880f-4ace-9859-89c2612570bf
CREATED:20260425T130728Z
DESCRIPTION:
LOCATION:record shop (360 van brunt st.\, brooklyn)
END:VEVENT
END:VCALENDAR
