BEGIN:VCALENDAR
BEGIN:VEVENT
SUMMARY:Michael Foster\, *special guest* [nycnoise]
DTSTART:20260414T000000Z
DTEND:20260414T010000Z
UID:fdb73001-c7fd-4d20-8490-cc05d8163b67
CREATED:20260425T110919Z
DESCRIPTION:full info asap
LOCATION:record shop (360 van brunt st.\, brooklyn)
END:VEVENT
END:VCALENDAR
