BEGIN:VCALENDAR
BEGIN:VEVENT
SUMMARY:Mess\, Celia Hill\, Murderpact [nycnoise]
DTSTART:20260312T000000Z
DTEND:20260312T010000Z
UID:8a6b9bcc-de7b-437e-8711-a70f500d188b
CREATED:20260425T130851Z
DESCRIPTION:
LOCATION:purgatory (675 central ave\, brooklyn)
END:VEVENT
END:VCALENDAR
