BEGIN:VCALENDAR
BEGIN:VEVENT
SUMMARY:Tōth (Album Release)\, Jenna Pascale [nycnoise]
DTSTART:20260318T230000Z
DTEND:20260319T000000Z
UID:c8d1a509-8b63-4427-b183-eba4f2508cea
CREATED:20260425T130835Z
DESCRIPTION:7pm doors
LOCATION:public records' sound room (233 butler st.\, brooklyn)
END:VEVENT
END:VCALENDAR
