BEGIN:VCALENDAR
BEGIN:VEVENT
SUMMARY:tour de PR: x3butterfly\, Petal Supply\, Callie Reiff\, Raquel Mic
 hel [nycnoise]
DTSTART:20260320T003000Z
DTEND:20260320T013000Z
UID:20649c9f-3a83-477a-86ab-51315e7c52ae
CREATED:20260425T131035Z
DESCRIPTION:
LOCATION:public records' sound room (233 butler st.\, brooklyn)
END:VEVENT
END:VCALENDAR
