BEGIN:VCALENDAR
BEGIN:VEVENT
SUMMARY:Tara Clerkin Trio\, Night #2/2 [nycnoise]
DTSTART:20260321T230000Z
DTEND:20260322T000000Z
UID:cc9f572e-2eb3-48e0-a3e6-d656d0552e10
CREATED:20260425T130835Z
DESCRIPTION:7pm doors
LOCATION:public records' sound room (233 butler st.\, brooklyn)
END:VEVENT
END:VCALENDAR
