BEGIN:VCALENDAR
BEGIN:VEVENT
SUMMARY:Listening Session: Swami Sound [nycnoise]
DTSTART:20260307T200000Z
DTEND:20260307T210000Z
UID:e64b3f54-e0b0-44f7-9d53-273999dc8c7b
CREATED:20260425T130704Z
DESCRIPTION:
LOCATION:silence please (132 Bowery Floor 2\, New York\, NY 10013)
END:VEVENT
END:VCALENDAR
