BEGIN:VCALENDAR
BEGIN:VEVENT
SUMMARY:Listening Session: Decomposition with rmzi [nycnoise]
DTSTART:20260308T190000Z
DTEND:20260308T200000Z
UID:3944f975-dc3b-4083-ae11-7d031ce460af
CREATED:20260425T130919Z
DESCRIPTION:
LOCATION:silence please (132 Bowery Floor 2\, New York\, NY 10013)
END:VEVENT
END:VCALENDAR
