BEGIN:VCALENDAR
BEGIN:VEVENT
SUMMARY:Listening Session: What is an ocean between us? with Duneska [nycn
 oise]
DTSTART:20260307T160000Z
DTEND:20260307T170000Z
UID:85d4272a-99e3-401b-b690-bf3efb26bb7e
CREATED:20260425T130703Z
DESCRIPTION:
LOCATION:silence please (132 Bowery Floor 2\, New York\, NY 10013)
END:VEVENT
END:VCALENDAR
