BEGIN:VCALENDAR
BEGIN:VEVENT
SUMMARY:Listening Session: Resonant Field with Sigil Sounds [nycnoise]
DTSTART:20260308T150000Z
DTEND:20260308T160000Z
UID:faa1666f-f3f1-4c89-996f-409ef70e5703
CREATED:20260425T130437Z
DESCRIPTION:
LOCATION:silence please (132 Bowery Floor 2\, New York\, NY 10013)
END:VEVENT
END:VCALENDAR
