BEGIN:VCALENDAR
BEGIN:VEVENT
SUMMARY:Listening Session: downbeatdetection with Spiral Eddie [nycnoise]
DTSTART:20260313T150000Z
DTEND:20260313T160000Z
UID:41a2d1de-922e-4c6f-bd52-f0edef449f63
CREATED:20260425T130702Z
DESCRIPTION:
LOCATION:silence please (132 Bowery Floor 2\, New York\, NY 10013)
END:VEVENT
END:VCALENDAR
