BEGIN:VCALENDAR
BEGIN:VEVENT
SUMMARY:an evening of electronics & instruments: Mike Clemow\, Sara Wentwo
 rth\, Takses [nycnoise]
DTSTART:20260306T010000Z
DTEND:20260306T020000Z
UID:b2c93d78-b653-4121-9c75-5b0be58b98f4
CREATED:20260425T130727Z
DESCRIPTION:
LOCATION:lowlands (543 3rd ave\, brooklyn)
END:VEVENT
END:VCALENDAR
