BEGIN:VCALENDAR
BEGIN:VEVENT
SUMMARY:Masaaki [nycnoise]
DTSTART:20260307T200000Z
DTEND:20260307T210000Z
UID:56d55fbc-52ff-4dfe-8d21-3a930a77f1da
CREATED:20260425T130735Z
DESCRIPTION:"in celebration of Brian DeGraw: Lichtenberg Figure"
LOCATION:polina berlin gallery (121 W 27th St Suite 704\, New York\, NY 10
 001)
END:VEVENT
END:VCALENDAR
