BEGIN:VCALENDAR
BEGIN:VEVENT
SUMMARY:Sara Schoenbeck\, Chris McIntyre\, Sam Weinberg [nycnoise]
DTSTART:20260315T000000Z
DTEND:20260315T010000Z
UID:1cfd1fed-a668-41ce-9647-258981367d03
CREATED:20260425T130837Z
DESCRIPTION:
LOCATION:lava club
END:VEVENT
END:VCALENDAR
