BEGIN:VCALENDAR
BEGIN:VEVENT
SUMMARY:Matinee: Chaser\, Microwaves\, Shardik\, Radio Shock [nycnoise]
DTSTART:20260314T190000Z
DTEND:20260314T200000Z
UID:a766e2a9-569a-4d04-8ff8-5ee8293c9132
CREATED:20260425T130735Z
DESCRIPTION:
LOCATION:gold sounds (44 wilson ave\, brooklyn)
END:VEVENT
END:VCALENDAR
