BEGIN:VCALENDAR
BEGIN:VEVENT
SUMMARY:Dear: Kate Williams\, Aminah Ibrahim [nycnoise]
DTSTART:20260305T010000Z
DTEND:20260305T020000Z
UID:4456901c-cfc6-4506-bedd-a28e4ac1ec0a
CREATED:20260425T130917Z
DESCRIPTION:curated by Isabella Thorpe-Woods&nbsp\;
LOCATION:issue project room (22 boerum place\, brooklyn)
END:VEVENT
END:VCALENDAR
