BEGIN:VCALENDAR
BEGIN:VEVENT
SUMMARY:UP Free Tues: Six Organs Of Admittance\, Mark Morgan [nycnoise]
DTSTART:20260310T230000Z
DTEND:20260311T000000Z
UID:4144d430-445e-4b90-b27a-e361f0c13192
CREATED:20260425T130918Z
DESCRIPTION:"rsvp not required\, entrance based on capacity\, first come f
 irst served"
LOCATION:union pool (484 union ave\, brooklyn)
END:VEVENT
END:VCALENDAR
