BEGIN:VCALENDAR
BEGIN:VEVENT
SUMMARY:Some Velvet Sidewalk\, Antietam\, The Scene Is Now [nycnoise]
DTSTART:20260315T230000Z
DTEND:20260316T000000Z
UID:6fa73304-8d9b-4193-9de0-a1837eb7fe34
CREATED:20260425T130728Z
DESCRIPTION:7pm doors
LOCATION:union pool (484 union ave\, brooklyn)
END:VEVENT
END:VCALENDAR
