BEGIN:VCALENDAR
BEGIN:VEVENT
SUMMARY:Kaleta & Super Yamba Band\, Samir Langus Trio [nycnoise]
DTSTART:20260313T230000Z
DTEND:20260314T000000Z
UID:0be4b674-23b3-487b-9b99-3578bd198590
CREATED:20260425T130528Z
DESCRIPTION:7pm doors
LOCATION:union pool (484 union ave\, brooklyn)
END:VEVENT
END:VCALENDAR
