BEGIN:VCALENDAR
BEGIN:VEVENT
SUMMARY:Parlor Walls (Record Release)\, Muscle Memory\, gushes [nycnoise]
DTSTART:20260403T230000Z
DTEND:20260404T000000Z
UID:d31172dc-8898-4e52-a96c-c375362b0e30
CREATED:20260425T110920Z
DESCRIPTION:7pm doors
LOCATION:union pool (484 union ave\, brooklyn)
END:VEVENT
END:VCALENDAR
