BEGIN:VCALENDAR
BEGIN:VEVENT
SUMMARY:Nullsleep\, janus rose\, Amigos Poderosos\, SEV1\, dr!p\, NO CARRI
 ER [nycnoise]
DTSTART:20260308T013000Z
DTEND:20260308T023000Z
UID:d2263d53-2336-4e5c-9fc5-29a232519f54
CREATED:20260425T131245Z
DESCRIPTION:organized by Metamyther
LOCATION:wonderville (1186 broadway\, brooklyn)
END:VEVENT
END:VCALENDAR
