BEGIN:VCALENDAR
BEGIN:VEVENT
SUMMARY:Cupid's Nemesis\, First President of Japan\, Son of Jacob [nycnois
 e]
DTSTART:20260320T230000Z
DTEND:20260321T000000Z
UID:b088ef78-3d90-42c0-ba65-e1f87d133bf6
CREATED:20260425T131244Z
DESCRIPTION:
LOCATION:nublu 151 (151 ave c\, manhattan)
END:VEVENT
END:VCALENDAR
