BEGIN:VCALENDAR
BEGIN:VEVENT
SUMMARY:Bentley Anderson (Record Release)\, Chaperone [nycnoise]
DTSTART:20260316T000000Z
DTEND:20260316T010000Z
UID:86d33680-f121-4aa3-bca7-208b1124487e
CREATED:20260425T131000Z
DESCRIPTION:7:30pm doors\; IG + RADIO
LOCATION:montez press (46 Canal St\, New York\, NY 10002)
END:VEVENT
END:VCALENDAR
