BEGIN:VCALENDAR
BEGIN:VEVENT
SUMMARY:Jupiter Boys\, Tiers La Familia\, Vienetta [nycnoise]
DTSTART:20260318T233000Z
DTEND:20260319T003000Z
UID:04fb2d4d-d33a-4d76-b93b-27a0b9458d5d
CREATED:20260425T130837Z
DESCRIPTION:7pm doors
LOCATION:bar freda (801 seneca ave\, ridgewood)
END:VEVENT
END:VCALENDAR
