BEGIN:VCALENDAR
BEGIN:VEVENT
SUMMARY:Limited Resources 92: Danny Kamins\, Danishta Rivero / Jacob Felix
  Heule / Nathan Nakadegawa-Lee / gabby fluke-mogul\, Beth Ann Jones [nycno
 ise]
DTSTART:20260416T003000Z
DTEND:20260416T013000Z
UID:75f1a011-0857-4e19-abe0-b7f80d08dcff
CREATED:20260425T110616Z
DESCRIPTION:lineup on insta\; curated by chris libutti
LOCATION:freddy's (627 5th ave\, brooklyn)
END:VEVENT
END:VCALENDAR
