BEGIN:VCALENDAR
BEGIN:VEVENT
SUMMARY:Scenic Presents: Pissed Jeans\, Pyrex [nycnoise]
DTSTART:20260327T230000Z
DTEND:20260328T000000Z
UID:07fb420c-c20f-4a0e-bffb-3a8252f79962
CREATED:20260425T131036Z
DESCRIPTION:7pm doors
LOCATION:market hotel (1140 myrtle ave\, brooklyn)
END:VEVENT
END:VCALENDAR
