BEGIN:VCALENDAR
BEGIN:VEVENT
SUMMARY:Wavefield presents 303 Day Live: immamuscia\, Tim O'Keefe\, Swami 
 Sounds\, Vinton Surf [nycnoise]
DTSTART:20260304T000000Z
DTEND:20260304T010000Z
UID:b693c6e4-efd0-4c8c-83b7-95bddb259f91
CREATED:20260425T130549Z
DESCRIPTION:"a night of live hardware acid &amp\; live visuals"
LOCATION:wavefield
END:VEVENT
END:VCALENDAR
