BEGIN:VCALENDAR
BEGIN:VEVENT
SUMMARY:Fundraiser for Rayna: Pauli Cakes\, p1nkstar\, Russell E.L. Butler
 \, CMD+JAZMINE\, Sodomahigamorra [nycnoise]
DTSTART:20260307T030000Z
DTEND:20260307T040000Z
UID:42de33e6-98f5-441e-b298-c858936e0cbc
CREATED:20260425T131035Z
DESCRIPTION:"raising funds for Rayna's surgery fund ... donate directly on
  GoFundMe"
LOCATION:bossa nova civic club (1271 myrtle ave\, brooklyn)
END:VEVENT
END:VCALENDAR
