BEGIN:VCALENDAR
BEGIN:VEVENT
SUMMARY:Ballet x Audition: Debit\, Stone\, hooz\, Blessing\, Jetty [nycnoi
 se]
DTSTART:20260309T020000Z
DTEND:20260309T030000Z
UID:b1e9e61a-de1a-47c0-a63e-4a4702a9920b
CREATED:20260425T130735Z
DESCRIPTION:
LOCATION:bossa nova civic club (1271 myrtle ave\, brooklyn)
END:VEVENT
END:VCALENDAR
